Workbook

Sheet 申込手順（はじめに）
B1: 申込の手順（はじめにお読みください）
B3: はじめに
B4: アンサンプルコンテストの参加申込は、提出方法が異なる2つがありますのでご注意ください。
B5: １ 参加申込書等を含む、このエクセルファイル
B6: →メール添付で下記の➊へ送信
B8: ２ 【ア】参加申込者（小中高校のみ・要校長印）、【イ】審査員用楽譜３部、
B9: 【ウ】楽譜のコビー<実施要項（2）-（ウ）参照>、【エ】講評用封筒１通（角形２号・表に団体名を明記）
B10: →【ア】～【エ】を同封して下記の➋へ郵送【締切：１１月２０日（金）・消印有効】
B11: ※昨今、郵便の配送に日数がかかりますので、早めにお送りください。今回は消印有効です。
B13: 手順
B14: １ 『入カシート1（様式１）』への入力を完了します。
B15: ・【選択】の項目は、ドロップダウンリストから選んでください。
... B50: 電話０２２ー３０３ー５５５１（仙台青陵中等教育学校）

Sheet  【記入例】入力シート１
D1: ※従前の手書き申込はございません。 すべてWebでの申込となります。
A2: ='大会＆DD'!$B$3&"参加申込【様式１】" -> 第38回宮城県合唱アンサンブルコンテスト参加申込【様式１】
C4: 白地部分 | D4: に入力（打ち込み または ドロップダウン選択）してください。
B6: 申込書記入日 | C6: 45231 | D6: 【入力例】 11 / 1 →11月1日に変換されます。
B8: ふりがな | C8: みやぎけんひふみこうとうがっこうおんがくぶ
B9: 正式団体名 | C9: 宮城県一二三高等学校音楽部
B11: 団体長・校長名 | C11: ○○ ○○ | E11: ※姓と名の間は１マス空けてください。
A13: 【選択】 | B13: 宮城県合唱連盟への加盟 | C13: 加盟団体
A15: 【選択】 | B15: 部門 | C15: 高等学校部門
B17: 団体参加費 ① | C17: 0 | D17: 円
B19: 個人参加費（一人当たり） | C19: 1,100 | D19: 円 → | E19: 参加費は部門によって異なります。
A21: 【入力】 | B21: 出演者数計 ※指揮者・伴奏者を除く | C21: 30 | D21: 名 → | E21: 団体から出演する合計人数を記入。
A24: 【入力】 | B24: 譜めくり、引率者、付添者数計 | C24: 2 | D24: 名 → | E24: １団体３名以内。出演者と同額（指揮者・伴奏者を除く）
B26: 合計人数 | C26: 32 | D26: 名
B28: 個人参加費 合計 ② | C28: 35200 | D28: 円
B30: 振込金額 （①＋②） | C30: 35200 | D30: 円 → | E30: ※振込人名義は団体の略称でお願いします。（個人名不可）
E31: ※振込手数料は各団でご負担ください。
F32: →申込書は納入後に送信してください。（「未納」のまま提出不可）
A33: 【選択】 | B33: 参加料の納入確認 | C33: 未納
B35: 連絡先
B36: 郵便番号 | C36: 123-0123 | E36: ※すべて半角数字（ハイフン有）で入力してください。 【記入例】987-6543
B38: 住所 | C38: 宮城県○○市○○区一二三町１２３－１２３
B40: 申込担当者（顧問）氏名 | C40: ○○ ○○ | E40: ※姓と名の間は１マス空けてください。
B42: 申込担当者氏名フリガナ | C42: ○○○ ○○○○ | E42: ※姓と名の間は１マス空けてください。
B44: 電話番号 | C44: 012-123-0123 | E44: ※すべて半角数字（ハイフン有）で入力してください。 【記入例】012-345-6789
B46: FAX番号（省略可） | C46: 012-123-4567 | E46: ※すべて半角数字（ハイフン有）で入力してください。 【記入例】012-345-6789
B48: メール（要項等送付先） | C48: abc@def.ghijklm.no.pq | G48: ※申込書送信と同じアドレスをご記入ください。
B50: 緊急連絡先携帯番号 | C50: 090-1234-1234 | E50: ※すべて半角数字（ハイフン有）で入力してください。 【記入例】010-1234-5678
B53: 記入漏れ、漢字変換のミスなどがないよう、送信前に再度ご確認ください。
B54: 曲名や指揮者名・伴奏者名等は、そのままプログラムに掲載となりますので、特にご注意ください。

Sheet 入力シート１
D1: ※従前の手書き申込はございません。 すべてWebでの申込となります。
A2: ='大会＆DD'!$B$3&"参加申込【様式１】" -> 第38回宮城県合唱アンサンブルコンテスト参加申込【様式１】
C4: 白地部分 | D4: に入力（打ち込み または ドロップダウン選択）してください。 「ＴＡＢキー」を押すと、次の項目に移動できます。
B6: 申込書記入日 | D6: 【入力例】 11 / 1 →11月1日に変換されます。
B8: ふりがな
B9: 正式団体名
B11: 団体長・校長名 | E11: ※姓と名の間は１マス空けてください。
A13: 【選択】 | B13: 宮城県合唱連盟への加盟 | E13: =IF(C13="非加盟団体"," →非加盟団体は、個人参加費に団体参加費 \10,000が加算されます。","")
A15: 【選択】 | B15: 部門 | I15: =IF(C15="小学校部門","1",IF(C15="中学校 同声","2",IF(C15="中学校 混声","3",IF(C15="高等学校 Ａ","4",IF(C15="高等学校 Ｂ","5",IF(C15="大学・職場・一般（室内）","6",IF(C15="大学・職場・一般（混声）","7",IF(C15="大学・職場・一般（同声）","8",""))))))))
B17: 団体参加費 ① | C17: =IF(C13="非加盟団体","10,000","0") -> 0 | D17: 円
B19: 個人参加費（一人当たり） | C19: =IF(C15="小学校部門",'大会＆DD'!C6,IF(C15="中学校部門",'大会＆DD'!C7,IF(C15="高等学校部門",'大会＆DD'!C8,IF(C15="大学部門",'大会＆DD'!C9,IF(C15="職場一般部門",'大会＆DD'!C10,""))))) | D19: 円 → | E19: 参加費は部門によって異なります。
A21: 【入力】 | B21: 出演者数計 ※指揮者・伴奏者を除く | D21: 名 → | E21: 団体から出演する合計人数を記入。
A24: 【入力】 | B24: 譜めくり、引率者、付添者数計 | D24: 名 → | E24: １団体３名以内。出演者と同額（指揮者・伴奏者を除く）
B26: 合計人数 | C26: =C21+C24 -> 0 | D26: 名
B28: 個人参加費 合計 ② | C28: =IF(C21="","",C26*C19) | D28: 円
B30: 振込金額 （①＋②） | C30: =IF(C28="","",C17+C28) | D30: 円 → | E30: ※振込人名義は団体の略称でお願いします。（個人名不可）
E31: ※振込手数料は各団でご負担ください。
F32: =IF(C33="未納"," →申込書は納入後に送信してください。（「未納」のまま提出不可）",IF(C33="納入済"," →申込後に増員があった場合は、当日清算してください。",""))
A33: 【選択】 | B33: 参加費の納入確認
B35: 連絡先
B36: 郵便番号 | E36: ※すべて半角数字（ハイフン有）で入力してください。 【記入例】987-6543
B38: 住所
B40: 申込担当者（顧問）氏名 | E40: ※姓と名の間は１マス空けてください。
B42: 申込担当者氏名フリガナ | E42: ※姓と名の間は１マス空けてください。
B44: 電話番号 | E44: ※すべて半角数字（ハイフン有）で入力してください。 【記入例】012-345-6789
B46: FAX番号（省略可） | E46: ※すべて半角数字（ハイフン有）で入力してください。 【記入例】012-345-6789
B48: メール（要項等送付先） | G48: ※申込書発信元と同じアドレスをご記入ください。二次要項等は「返信」でお送りします。
B50: 緊急連絡先携帯番号 | E50: ※すべて半角数字（ハイフン有）で入力してください。 【記入例】010-1234-5678
B53: 記入漏れ、漢字変換のミスなどがないよう、送信前に再度ご確認ください。
B54: 曲名や指揮者名・伴奏者名等は、そのままプログラムに掲載となりますので、特にご注意ください。

Sheet 【記入例】入力シート２
D1: ※従前の手書き申込はございません。 すべてWebでの申込となります。
A2: 団体から複数のグループが出場する場合は、 ２頁目以降（このシートの下部）にも入力してください。
A3: ='大会＆DD'!$B$3&"参加申込【様式２ー１頁目】" -> 第38回宮城県合唱アンサンブルコンテスト参加申込【様式２ー１頁目】
B5: 正式団体名 | C5: 宮城県一二三高等学校音楽部
B7: ふりがな | C7: あん どぅ とろわ | K7: ※同一団体から複数グループが出場する場合は必ず記入する。 （１グループの場合は記入しない）
B8: グループ名（１グループ目） | C8: Un Deux Trois
A10: 【選択】 | B10: 声楽アンサンブルコンテスト 全国大会への推薦 | C10: 希望する
B13: 出演者人数（最大16名） | C13: 14 | D13: 名 ※指揮者・伴奏者を除く
A15: 【選択】 | B15: 編成 | C15: 女声
A17: 【選択】 | B17: ピアノの使用 | C17: 使用しない（開始音のみ） | G17: ※ピアノは下手側に固定です。
B19: ピアノ以外の楽器使用 | N19: ※楽器名、人数を記入
B21: 自由曲 | C21: 曲名（組曲名等も記入） ※省略せず、楽譜の表紙等の記載どおりに 記入 ※外国作品は原則原語で記入 | H21: 作詞・訳詞 等 ↓ 作詞・作詩・訳詞等の 別を入力 | K21: 作曲・編曲 等 ↓ 作曲・編曲・補作等の 別を入力 | N21: 演奏時間 （分） | O21: 利用方法 | AC21: 演奏曲 | AD21: 曲名（組曲名等も記入） ※省略せず、楽譜の表紙等の記載どおりに 記入 ※外国作品は原則原語で記入 | AI21: 作詞・訳詞 等 '↓ 作詞・作詩・訳詞等の 別を入力 | AL21: 作曲・編曲 等 '↓ 作曲・編曲・補作等の 別を入力 | AO21: 演奏時間 （分） | AP21: 利用方法
B23: １曲目 ※「上詰め」で記入 | C23: 無伴奏女声合唱組曲「あの日の失敗」から | H23: 作詞 | I23: 宝 久慈 | K23: 作曲 | L23: 念松 醤慕 | N23: 2 | O23: 1.原詞 | P23: 「演奏時間」は著作物使用申請に使用。曲ごとの演奏時間を計測して秒切り上げ（分単位）で記入。 「利用方法」の欄は、「原詞」または「訳詞」の別を選択。 | U23: =COUNTIF(O23,"1.原詞") -> 1 | W23: =MINUTE(N23) -> 0 | AC23: １曲目 ※「上詰め」で記入 | AD23: A1 | AI23: AA1 | AJ23: aa1 | AL23: AAA1 | AM23: aaa1 | AO23: 1 | AP23: 1.原詞
C24: ２．買っておけばよかった | U24: =COUNTIF(O23,"2.訳詞")*2 -> 0 | V24: =SUM(U23:U24) -> 1 | AD24: A2 | AI24: AA2 | AJ24: aa2 | AL24: AAA2 | AM24: aaa2
AD25: A3 | AI25: AA3 | AJ25: aa3 | AL25: AAA3 | AM25: aaa3
B26: ２曲目 ※「上詰め」で記入 | C26: 無伴奏女声合唱組曲「転機」から | H26: 詩 | I26: 膳五 翔 | K26: 作曲 | L26: 左 団扇 | N26: 3 | O26: 1.原詞 | U26: =COUNTIF(O26,"1.原詞") -> 1 | W26: =MINUTE(N26) -> 0 | AC26: ２曲目 ※「上詰め」で記入 | AD26: B1 | AI26: BB1 | AJ26: bb1 | AL26: BBB1 | AM26: bbb1 | AO26: 2 | AP26: 2.訳詞
C27: Ⅲ あの瞬間 | U27: =COUNTIF(O26,"2.訳詞")*2 -> 0 | V27: =SUM(U26:U27) -> 1 | AD27: B2 | AI27: BB2 | AJ27: bb2 | AL27: BBB2 | AM27: bbb2
AD28: B3 | AI28: BB3 | AJ28: bb3 | AL28: BBB3 | AM28: bbb3
B29: ３曲目 ※「上詰め」で記入 | U29: =COUNTIF(O29,"1.原詞") -> 0 | W29: =MINUTE(N29) -> 0 | AC29: ３曲目 ※「上詰め」で記入 | AD29: C1 | AI29: CC1 | AJ29: cc1 | AL29: CCC1 | AM29: ccc1 | AO29: 3 | AP29: 1.原詞
U30: =COUNTIF(O29,"2.訳詞")*2 -> 0 | V30: =SUM(U29:U30) -> 0 | AD30: C2 | AI30: CC2 | AJ30: cc2 | AL30: CCC2 | AM30: ccc2
AD31: C3 | AI31: CC3 | AJ31: cc3 | AL31: CCC3 | AM31: ccc3
B32: ４曲目 ※「上詰め」で記入 | U32: =COUNTIF(O32,"1.原詞") -> 0 | W32: =MINUTE(N32) -> 0 | AC32: ４曲目 ※「上詰め」で記入 | AD32: D1 | AI32: DD1 | AJ32: dd1 | AL32: DDD1 | AM32: ddd1 | AO32: 4 | AP32: 2.訳詞
U33: =COUNTIF(O32,"2.訳詞")*2 -> 0 | V33: =SUM(U32:U33) -> 0 | AD33: D2 | AI33: DD2 | AJ33: dd2 | AL33: DDD2 | AM33: ddd2
AD34: D3 | AI34: DD3 | AJ34: dd3 | AL34: DDD3 | AM34: ddd3
B35: ５曲目 ※「上詰め」で記入 | U35: =COUNTIF(O35,"1.原詞") -> 0 | W35: =MINUTE(N35) -> 0 | AC35: ５曲目 ※「上詰め」で記入 | AD35: E1 | AI35: EE1 | AJ35: ee1 | AL35: EEE1 | AM35: eee1 | AO35: 5 | AP35: 1.原詞
U36: =COUNTIF(O35,"2.訳詞")*2 -> 0 | V36: =SUM(U35:U36) -> 0 | AD36: E2 | AI36: EE2 | AJ36: ee2 | AL36: EEE2 | AM36: eee2
AD37: E3 | AI37: EE3 | AJ37: ee3 | AL37: EEE1 | AM37: eee3
C38: 注）著作権者に無断での省略（パート、無伴奏化、繰り返し等）、男声・女声パートの入れ替え等はできません。【楽譜どおりの演奏】 | H38: ※楽譜記載と同様に記入する 作詞 or 作詩 など
B41: 指揮者ふりがな | C41: ○○○ ○○○○
B42: 指揮者氏名 | C42: ○○ ○○ | E42: ※ふりがな・氏名ともに姓と名の間は１マス空けてください。 | L42: 指揮者・伴奏者等がいない場合は「空欄」
B44: ピアノ伴奏者ふりがな
B45: ピアノ伴奏者氏名 | E45: ※ふりがな・氏名ともに姓と名の間は１マス空けてください。
B47: 【入力例】３分２５秒の場合→「0:3:25」と入力してください。
B48: 合計演奏時間 | C48: 0.0032407407 | E48: ※始めの音を出してから、曲間を含めた全曲演奏終了までの時間を記入してください。 | P48: 0.0032407407
A51: 【選択】 | B51: ピアノふた | C51: 閉
A53: 【選択】 | B53: 指揮者用譜面台 | C53: 要 | E53: ※指揮台はありません。
A55: 【選択】 | B55: 譜めくり椅子 | C55: 不要
B57: 要望事項
B60: 記入漏れ、漢字変換のミスなどがないよう、送信前に再度ご確認ください。
B61: 曲名や指揮者名・伴奏者名等は、そのままプログラムに掲載となりますので、特にご注意ください。
A64: ='大会＆DD'!$B$3&"参加申込【様式２ー２頁目】" -> 第38回宮城県合唱アンサンブルコンテスト参加申込【様式２ー２頁目】
B66: 正式団体名 | C66: 宮城県一二三高等学校音楽部
B68: ふりがな | C68: あいんす つう゛ぁい どらい
B69: グループ名（２グループ目） | C69: Eins Zwei Drei | K69: ※同一団体から複数グループが出場する場合は必ず記入する。
A71: 【選択】 | B71: 声楽アンサンブルコンテスト 全国大会への推薦 | C71: 希望する
B74: 出演者人数（最大16名） | C74: 16 | D74: 名 ※指揮者・伴奏者を除く
A76: 【選択】 | B76: 編成 | C76: 混声
A78: 【選択】 | B78: ピアノの使用 | C78: 使用する | G78: ※ピアノは下手側に固定です。
B80: ピアノ以外の楽器使用 | N80: ※楽器名、人数を記入
B82: 自由曲 | C82: 曲名（組曲名等も記入） ※省略せず、楽譜の表紙等の記載どおりに 記入 ※外国作品は原則原語で記入 | H82: 作詞・訳詞 等 ↓ 作詞・作詩・訳詞等の 別を入力 | K82: 作曲・編曲 等 ↓ 作曲・編曲・補作等の 別を入力 | N82: 演奏時間 （分） | O82: 利用方法
B84: １曲目 ※「上詰め」で記入 | C84: 女声合唱とピアノのための「色は匂えど」から | H84: 作詞 | I84: 藤原 持家 | K84: 作曲 | L84: 奥山 今日子 | N84: 2 | O84: 2.訳詞 | P84: 「演奏時間」は著作物使用申請に使用。曲ごとの演奏時間を計測して秒切り上げ（分単位）で記入。 「利用方法」の欄は、「原詞」または「訳詞」の別を選択。 | U84: =COUNTIF(O84,"1.原詞") -> 0 | W84: =MINUTE(N84) -> 0
C85: ２ 京越えて | H85: 現代語詞 | I85: 我与 たれそ | U85: =COUNTIF(O84,"2.訳詞")*2 -> 2 | V85: =SUM(U84:U85) -> 2
B87: ２曲目 ※「上詰め」で記入 | C87: 女声合唱とピアノのための「色は匂えど」から | H87: 作詞 | I87: 藤原 持家 | K87: 作曲 | L87: 奥山 今日子 | N87: 3 | O87: 2.訳詞 | U87: =COUNTIF(O87,"1.原詞") -> 0 | W87: =MINUTE(N87) -> 0
C88: ３ 浅き夢 | H88: 現代語詞 | I88: 我与 たれそ | U88: =COUNTIF(O87,"2.訳詞")*2 -> 2 | V88: =SUM(U87:U88) -> 2
B90: ３曲目 ※「上詰め」で記入 | U90: =COUNTIF(O90,"1.原詞") -> 0 | W90: =MINUTE(N90) -> 0
U91: =COUNTIF(O90,"2.訳詞")*2 -> 0 | V91: =SUM(U90:U91) -> 0
B93: ４曲目 ※「上詰め」で記入 | U93: =COUNTIF(O93,"1.原詞") -> 0 | W93: =MINUTE(N93) -> 0
U94: =COUNTIF(O93,"2.訳詞")*2 -> 0 | V94: =SUM(U93:U94) -> 0
B96: ５曲目 ※「上詰め」で記入 | U96: =COUNTIF(O96,"1.原詞") -> 0 | W96: =MINUTE(N96) -> 0
U97: =COUNTIF(O96,"2.訳詞")*2 -> 0 | V97: =SUM(U96:U97) -> 0
C99: 注）著作権者に無断での省略（パート、無伴奏化、繰り返し等）、男声・女声パートの入れ替え等はできません。【楽譜どおりの演奏】 | H99: ※楽譜記載と同様に記入する 作詞 or 作詩 など
B102: 指揮者ふりがな | C102: ○○○ ○○○○
B103: 指揮者氏名 | C103: ○○ ○○ | E103: ※ふりがな・氏名ともに姓と名の間は１マス空けてください。 | L103: 指揮者・伴奏者等がいない場合は「空欄」
B105: ピアノ伴奏者ふりがな | C105: ○○ ○○○
B106: ピアノ伴奏者氏名 | C106: ○○ ○○ | E106: ※ふりがな・氏名ともに姓と名の間は１マス空けてください。
B108: 【入力例】３分２５秒の場合→「0:3:25」と入力してください。
B109: 合計演奏時間 | C109: 0.0033564815 | E109: ※始めの音を出してから、曲間を含めた全曲演奏終了までの時間を記入してください。 | P109: 0.0033564815
A112: 【選択】 | B112: ピアノふた | C112: コマ
A114: 【選択】 | B114: 指揮者用譜面台 | C114: 要 | E114: ※指揮台はありません。
A116: 【選択】 | B116: 譜めくり椅子 | C116: 不要
B118: 要望事項
B121: 記入漏れ、漢字変換のミスなどがないよう、送信前に再度ご確認ください。
B122: 曲名や指揮者名・伴奏者名等は、そのままプログラムに掲載となりますので、特にご注意ください。

Sheet 入力シート２
D1: ※従前の手書き申込はございません。 すべてWebでの申込となります。
A2: 団体から複数のグループが出場する場合は、 ２頁目以降（このシートの下部）にも入力してください。
A3: ='大会＆DD'!$B$3&"参加申込【様式２ー１頁目】" -> 第38回宮城県合唱アンサンブルコンテスト参加申込【様式２ー１頁目】
B5: 正式団体名 | C5: =入力シート１!C9 -> 0
B7: ふりがな | K7: ※同一団体から複数グループが出場する場合は必ず記入する。 （１グループの場合は記入しない）
B8: グループ名（１グループ目）
A10: 【選択】 | B10: 声楽アンサンブルコンテスト 全国大会への推薦
B13: 出演者人数（最大16名） | D13: 名 ※指揮者・伴奏者を除く | H13: =IF(C13>16,"人数の条件を超えています","")
A15: 【選択】 | B15: 編成
A17: 【選択】 | B17: ピアノの使用 | G17: ※ピアノは下手側に固定です。
B19: ピアノ以外の楽器使用 | N19: ※楽器名、人数を記入
B21: 演奏曲 | C21: 曲名（組曲名等も記入） ※省略せず、楽譜の表紙等の記載どおりに 記入 ※外国作品は原則原語で記入 | H21: 作詞・訳詞 等 '↓ 作詞・作詩・訳詞等の 別を入力 | K21: 作曲・編曲 等 '↓ 作曲・編曲・補作等の 別を入力 | N21: 演奏時間 （分） | O21: 利用方法 | AC21: 演奏曲 | AD21: 曲名（組曲名等も記入） ※省略せず、楽譜の表紙等の記載どおりに 記入 ※外国作品は原則原語で記入 | AI21: 作詞・訳詞 等 '↓ 作詞・作詩・訳詞等の 別を入力 | AL21: 作曲・編曲 等 '↓ 作曲・編曲・補作等の 別を入力 | AO21: 演奏時間 （分） | AP21: 利用方法
B23: １曲目 ※「上詰め」で記入 | P23: 「演奏時間」は著作物使用申請に使用。曲ごとの演奏時間を計測して秒切り上げ（分単位）で記入。 「利用方法」の欄は、「原詞」または「訳詞」の別を選択。 | U23: =COUNTIF(O23,"1.原詞") -> 0 | W23: =MINUTE(N23) -> 0 | AC23: １曲目 ※「上詰め」で記入 | AD23: A1 | AI23: AA1 | AJ23: aa1 | AL23: AAA1 | AM23: aaa1 | AO23: 1 | AP23: 1.原詞
U24: =COUNTIF(O23,"2.訳詞")*2 -> 0 | V24: =SUM(U23:U24) -> 0 | AD24: A2 | AI24: AA2 | AJ24: aa2 | AL24: AAA2 | AM24: aaa2
AD25: A3 | AI25: AA3 | AJ25: aa3 | AL25: AAA3 | AM25: aaa3
B26: ２曲目 ※「上詰め」で記入 | U26: =COUNTIF(O26,"1.原詞") -> 0 | W26: =MINUTE(N26) -> 0 | AC26: ２曲目 ※「上詰め」で記入 | AD26: B1 | AI26: BB1 | AJ26: bb1 | AL26: BBB1 | AM26: bbb1 | AO26: 2 | AP26: 2.訳詞
U27: =COUNTIF(O26,"2.訳詞")*2 -> 0 | V27: =SUM(U26:U27) -> 0 | AD27: B2 | AI27: BB2 | AJ27: bb2 | AL27: BBB2 | AM27: bbb2
AD28: B3 | AI28: BB3 | AJ28: bb3 | AL28: BBB3 | AM28: bbb3
B29: ３曲目 ※「上詰め」で記入 | U29: =COUNTIF(O29,"1.原詞") -> 0 | W29: =MINUTE(N29) -> 0 | AC29: ３曲目 ※「上詰め」で記入 | AD29: C1 | AI29: CC1 | AJ29: cc1 | AL29: CCC1 | AM29: ccc1 | AO29: 3 | AP29: 1.原詞
U30: =COUNTIF(O29,"2.訳詞")*2 -> 0 | V30: =SUM(U29:U30) -> 0 | AD30: C2 | AI30: CC2 | AJ30: cc2 | AL30: CCC2 | AM30: ccc2
AD31: C3 | AI31: CC3 | AJ31: cc3 | AL31: CCC3 | AM31: ccc3
B32: ４曲目 ※「上詰め」で記入 | U32: =COUNTIF(O32,"1.原詞") -> 0 | W32: =MINUTE(N32) -> 0 | AC32: ４曲目 ※「上詰め」で記入 | AD32: D1 | AI32: DD1 | AJ32: dd1 | AL32: DDD1 | AM32: ddd1 | AO32: 4 | AP32: 2.訳詞
U33: =COUNTIF(O32,"2.訳詞")*2 -> 0 | V33: =SUM(U32:U33) -> 0 | AD33: D2 | AI33: DD2 | AJ33: dd2 | AL33: DDD2 | AM33: ddd2
AD34: D3 | AI34: DD3 | AJ34: dd3 | AL34: DDD3 | AM34: ddd3
B35: ５曲目 ※「上詰め」で記入 | U35: =COUNTIF(O35,"1.原詞") -> 0 | W35: =MINUTE(N35) -> 0 | AC35: ５曲目 ※「上詰め」で記入 | AD35: E1 | AI35: EE1 | AJ35: ee1 | AL35: EEE1 | AM35: eee1 | AO35: 5 | AP35: 1.原詞
U36: =COUNTIF(O35,"2.訳詞")*2 -> 0 | V36: =SUM(U35:U36) -> 0 | AD36: E2 | AI36: EE2 | AJ36: ee2 | AL36: EEE2 | AM36: eee2
AD37: E3 | AI37: EE3 | AJ37: ee3 | AL37: EEE1 | AM37: eee3
C38: 注）著作権者に無断での省略（パート、無伴奏化、繰り返し等）、男声・女声パートの入れ替え等はできません。 【楽譜どおりの演奏】 | H38: ※楽譜記載と同様に記入する 作詞 or 作詩 など
B41: 指揮者ふりがな
B42: 指揮者氏名 | E42: ※ふりがな・氏名ともに姓と名の間は１マス空けてください。 | L42: 指揮者・伴奏者等がいない場合は「空欄」
B44: ピアノ伴奏者ふりがな
B45: ピアノ伴奏者氏名 | E45: ※ふりがな・氏名ともに姓と名の間は１マス空けてください。
B47: 【入力例】３分２５秒の場合→「0:3:25」と入力してください。
B48: 合計演奏時間 | E48: ※始めの音を出してから、曲間を含めた全曲演奏終了までの時間を記入してください。 | P48: =IF(C48="","",C48)
A51: 【選択】 | B51: ピアノふた | C51: =IF(C17="使用しない（開始音のみ）","閉","")
A53: 【選択】 | B53: 指揮者用譜面台 | E53: ※指揮台はありません。
A55: 【選択】 | B55: 譜めくり椅子 | E55: =IF(C55="要"," → ※「譜めくり者」は各団でご準備ください。","")
B57: 要望事項
B60: 記入漏れ、漢字変換のミスなどがないよう、送信前に再度ご確認ください。
B61: 曲名や指揮者名・伴奏者名等は、そのままプログラムに掲載となりますので、特にご注意ください。
A64: ='大会＆DD'!$B$3&"参加申込【様式２ー２頁目】" -> 第38回宮城県合唱アンサンブルコンテスト参加申込【様式２ー２頁目】
B66: 正式団体名 | C66: =入力シート１!C9 -> 0
B68: ふりがな
B69: グループ名（２グループ目） | K69: ※同一団体から複数グループが出場する場合は必ず記入する。
A71: 【選択】 | B71: 声楽アンサンブルコンテスト 全国大会への推薦
B74: 出演者人数（最大16名） | D74: 名 ※指揮者・伴奏者を除く | H74: =IF(C74>16,"人数の条件を超えています","")
A76: 【選択】 | B76: 編成
A78: 【選択】 | B78: ピアノの使用 | G78: ※ピアノは下手側に固定です。
B80: ピアノ以外の楽器使用 | N80: ※楽器名、人数を記入
B82: 演奏曲 | C82: 曲名（組曲名等も記入） ※省略せず、楽譜の表紙等の記載どおりに 記入 ※外国作品は原則原語で記入 | H82: 作詞・訳詞 等 '↓ 作詞・作詩・訳詞等の 別を入力 | K82: 作曲・編曲 等 '↓ 作曲・編曲・補作等の 別を入力 | N82: 演奏時間 （分） | O82: 利用方法
B84: １曲目 ※「上詰め」で記入 | P84: 「演奏時間」は著作物使用申請に使用。曲ごとの演奏時間を計測して秒切り上げ（分単位）で記入。 「利用方法」の欄は、「原詞」または「訳詞」の別を選択。 | U84: =COUNTIF(O84,"1.原詞") -> 0 | W84: =MINUTE(N84) -> 0
U85: =COUNTIF(O84,"2.訳詞")*2 -> 0 | V85: =SUM(U84:U85) -> 0
B87: ２曲目 ※「上詰め」で記入 | U87: =COUNTIF(O87,"1.原詞") -> 0 | W87: =MINUTE(N87) -> 0
U88: =COUNTIF(O87,"2.訳詞")*2 -> 0 | V88: =SUM(U87:U88) -> 0
B90: ３曲目 ※「上詰め」で記入 | U90: =COUNTIF(O90,"1.原詞") -> 0 | W90: =MINUTE(N90) -> 0
U91: =COUNTIF(O90,"2.訳詞")*2 -> 0 | V91: =SUM(U90:U91) -> 0
B93: ４曲目 ※「上詰め」で記入 | U93: =COUNTIF(O93,"1.原詞") -> 0 | W93: =MINUTE(N93) -> 0
U94: =COUNTIF(O93,"2.訳詞")*2 -> 0 | V94: =SUM(U93:U94) -> 0
B96: ５曲目 ※「上詰め」で記入 | U96: =COUNTIF(O96,"1.原詞") -> 0 | W96: =MINUTE(N96) -> 0
U97: =COUNTIF(O96,"2.訳詞")*2 -> 0 | V97: =SUM(U96:U97) -> 0
C99: 注）著作権者に無断での省略（パート、無伴奏化、繰り返し等）、男声・女声パートの入れ替え等はできません。 【楽譜どおりの演奏】 | H99: ※楽譜記載と同様に記入する 作詞 or 作詩 など
B102: 指揮者ふりがな
B103: 指揮者氏名 | E103: ※ふりがな・氏名ともに姓と名の間は１マス空けてください。 | L103: 指揮者・伴奏者等がいない場合は「空欄」
B105: ピアノ伴奏者ふりがな
B106: ピアノ伴奏者氏名 | E106: ※ふりがな・氏名ともに姓と名の間は１マス空けてください。
B108: 【入力例】３分２５秒の場合→「0:3:25」と入力してください。
B109: 合計演奏時間 | E109: ※始めの音を出してから、曲間を含めた全曲演奏終了までの時間を記入してください。 | P109: =IF(C109="","",C109)
A112: 【選択】 | B112: ピアノふた
A114: 【選択】 | B114: 指揮者用譜面台 | E114: ※指揮台はありません。
A116: 【選択】 | B116: 譜めくり椅子 | E116: =IF(C116="要"," → ※「譜めくり者」は各団でご準備ください。","")
B118: 要望事項
B121: 記入漏れ、漢字変換のミスなどがないよう、送信前に再度ご確認ください。
B122: 曲名や指揮者名・伴奏者名等は、そのままプログラムに掲載となりますので、特にご注意ください。
A125: ='大会＆DD'!$B$3&"参加申込【様式２ー３頁目】" -> 第38回宮城県合唱アンサンブルコンテスト参加申込【様式２ー３頁目】
B127: 正式団体名 | C127: =入力シート１!C9 -> 0
B129: ふりがな
B130: グループ名（３グループ目） | K130: ※同一団体から複数グループが出場する場合は必ず記入する。
A132: 【選択】 | B132: 声楽アンサンブルコンテスト 全国大会への推薦
B135: 出演者人数（最大16名） | D135: 名 ※指揮者・伴奏者を除く | H135: =IF(C135>16,"人数の条件を超えています","")
A137: 【選択】 | B137: 編成
A139: 【選択】 | B139: ピアノの使用 | G139: ※ピアノは下手側に固定です。
B141: ピアノ以外の楽器使用 | N141: ※楽器名、人数を記入
B143: 演奏曲 | C143: 曲名（組曲名等も記入） ※省略せず、楽譜の表紙等の記載どおりに 記入 ※外国作品は原則原語で記入 | H143: 作詞・訳詞 等 '↓ 作詞・作詩・訳詞等の 別を入力 | K143: 作曲・編曲 等 '↓ 作曲・編曲・補作等の 別を入力 | N143: 演奏時間 （分） | O143: 利用方法
B145: １曲目 ※「上詰め」で記入 | P145: 「演奏時間」は著作物使用申請に使用。曲ごとの演奏時間を計測して秒切り上げ（分単位）で記入。 「利用方法」の欄は、「原詞」または「訳詞」の別を選択。 | U145: =COUNTIF(O145,"1.原詞") -> 0 | W145: =MINUTE(N145) -> 0
U146: =COUNTIF(O145,"2.訳詞")*2 -> 0 | V146: =SUM(U145:U146) -> 0
B148: ２曲目 ※「上詰め」で記入 | U148: =COUNTIF(O148,"1.原詞") -> 0 | W148: =MINUTE(N148) -> 0
U149: =COUNTIF(O148,"2.訳詞")*2 -> 0 | V149: =SUM(U148:U149) -> 0
B151: ３曲目 ※「上詰め」で記入 | U151: =COUNTIF(O151,"1.原詞") -> 0 | W151: =MINUTE(N151) -> 0
U152: =COUNTIF(O151,"2.訳詞")*2 -> 0 | V152: =SUM(U151:U152) -> 0
B154: ４曲目 ※「上詰め」で記入 | U154: =COUNTIF(O154,"1.原詞") -> 0 | W154: =MINUTE(N154) -> 0
U155: =COUNTIF(O154,"2.訳詞")*2 -> 0 | V155: =SUM(U154:U155) -> 0
B157: ５曲目 ※「上詰め」で記入 | U157: =COUNTIF(O157,"1.原詞") -> 0 | W157: =MINUTE(N157) -> 0
U158: =COUNTIF(O157,"2.訳詞")*2 -> 0 | V158: =SUM(U157:U158) -> 0
C160: 注）著作権者に無断での省略（パート、無伴奏化、繰り返し等）、男声・女声パートの入れ替え等はできません。 【楽譜どおりの演奏】 | H160: ※楽譜記載と同様に記入する 作詞 or 作詩 など
B163: 指揮者ふりがな
B164: 指揮者氏名 | E164: ※ふりがな・氏名ともに姓と名の間は１マス空けてください。 | L164: 指揮者・伴奏者等がいない場合は「空欄」
B166: ピアノ伴奏者ふりがな
B167: ピアノ伴奏者氏名 | E167: ※ふりがな・氏名ともに姓と名の間は１マス空けてください。
B169: 【入力例】３分２５秒の場合→「0:3:25」と入力してください。
B170: 合計演奏時間 | E170: ※始めの音を出してから、曲間を含めた全曲演奏終了までの時間を記入してください。 | P170: =IF(C170="","",C170)
...

Sheet 参加申込書
B1: Web申込 | H1: 事務局 記入欄
B2: ='大会＆DD'!$B$3&"参加申込書" -> 第38回宮城県合唱アンサンブルコンテスト参加申込書 | I2: １グループ目
B4: ふりがな | C4: =DATA集計シート!B3 -> 0 | H4: =DATA集計シート!B7 -> 0
B5: 正式団体名 | C5: =DATA集計シート!B4 -> 0
B6: 加盟・非加盟 | C6: =DATA集計シート!B6 -> 0 | D6: =IF(C6="非加盟団体","（団体参加費 10,000円加算）","")
B7: 納入金内訳 （団体総計） | C7: =DATA集計シート!B9 | D7: × | E7: =DATA集計シート!B10&"名" -> 0名 | F7: (出演者） | H7: ＝ | I7: =DATA集計シート!B13
E8: =DATA集計シート!B11&"名" -> 0名 | F8: (譜めくり・付添等）
C9: 【加算】団体参加費 | E9: =IF(C6="非加盟団体","10,000","0") -> 0 | F9: 円 | G9: 振込金額 | H9: ＝ | I9: =I7+E9 -> #VALUE!
B10: 参加料 納入確認 | C10: =DATA集計シート!B15 -> 0 | E10: =入力シート１!F32
B11: 連絡先 （文書送付先） ※参加者要項 （２次要項）の 送付等に使用 | C11: 郵便番号 | D11: =DATA集計シート!B21 -> 0 | F11: 緊急連絡先携帯番号 | H11: =DATA集計シート!B27 -> 0
C12: 住所 | D12: =DATA集計シート!B22 -> 0
C13: 申込担当者氏名 | D13: =DATA集計シート!B23 -> 0
C14: 電話番号 | D14: =DATA集計シート!B24 -> 0 | F14: ＦＡＸ番号 お持ちでない場合は省略可 | H14: =DATA集計シート!B25 -> 0
C15: メールアドレス （要項等送付先） | D15: =DATA集計シート!B26 -> 0
B17: ふりがな | C17: =DATA集計シート!B30 -> 0 | G17: グループ人数 | H17: =DATA集計シート!B33&"名" -> 0名
B18: グループ名 | C18: =DATA集計シート!B31 -> 0
B19: 編成 | C19: =DATA集計シート!B35 -> 0 | E19: 全国大会への推薦 | G19: =DATA集計シート!B32 -> 0
B20: 演奏曲目 | C20: 曲 名 | F20: 作・訳詩者 | H20: 作・編曲者
C21: =IF(入力シート２!C23="","",入力シート２!C23) | F21: =IF(入力シート２!H23="","",入力シート２!H23) | G21: =IF(入力シート２!I23="","",入力シート２!I23) | H21: =IF(入力シート２!K23="","",入力シート２!K23) | I21: =IF(入力シート２!L23="","",入力シート２!L23)
C22: =IF(入力シート２!C24="","",入力シート２!C24) | F22: =IF(入力シート２!H24="","",入力シート２!H24) | G22: =IF(入力シート２!I24="","",入力シート２!I24) | H22: =IF(入力シート２!K24="","",入力シート２!K24) | I22: =IF(入力シート２!L24="","",入力シート２!L24)
C23: =IF(入力シート２!C25="","",入力シート２!C25) | F23: =IF(入力シート２!H25="","",入力シート２!H25) | G23: =IF(入力シート２!I25="","",入力シート２!I25) | H23: =IF(入力シート２!K25="","",入力シート２!K25) | I23: =IF(入力シート２!L25="","",入力シート２!L25)
C24: =IF(入力シート２!C26="","",入力シート２!C26) | F24: =IF(入力シート２!H26="","",入力シート２!H26) | G24: =IF(入力シート２!I26="","",入力シート２!I26) | H24: =IF(入力シート２!K26="","",入力シート２!K26) | I24: =IF(入力シート２!L26="","",入力シート２!L26)
C25: =IF(入力シート２!C27="","",入力シート２!C27) | F25: =IF(入力シート２!H27="","",入力シート２!H27) | G25: =IF(入力シート２!I27="","",入力シート２!I27) | H25: =IF(入力シート２!K27="","",入力シート２!K27) | I25: =IF(入力シート２!L27="","",入力シート２!L27)
C26: =IF(入力シート２!C28="","",入力シート２!C28) | F26: =IF(入力シート２!H28="","",入力シート２!H28) | G26: =IF(入力シート２!I28="","",入力シート２!I28) | H26: =IF(入力シート２!K28="","",入力シート２!K28) | I26: =IF(入力シート２!L28="","",入力シート２!L28)
C27: =IF(入力シート２!C29="","",入力シート２!C29) | F27: =IF(入力シート２!H29="","",入力シート２!H29) | G27: =IF(入力シート２!I29="","",入力シート２!I29) | H27: =IF(入力シート２!K29="","",入力シート２!K29) | I27: =IF(入力シート２!L29="","",入力シート２!L29)
C28: =IF(入力シート２!C30="","",入力シート２!C30) | F28: =IF(入力シート２!H30="","",入力シート２!H30) | G28: =IF(入力シート２!I30="","",入力シート２!I30) | H28: =IF(入力シート２!K30="","",入力シート２!K30) | I28: =IF(入力シート２!L30="","",入力シート２!L30)
C29: =IF(入力シート２!C31="","",入力シート２!C31) | F29: =IF(入力シート２!H31="","",入力シート２!H31) | G29: =IF(入力シート２!I31="","",入力シート２!I31) | H29: =IF(入力シート２!K31="","",入力シート２!K31) | I29: =IF(入力シート２!L31="","",入力シート２!L31)
C30: =IF(入力シート２!C32="","",入力シート２!C32) | F30: =IF(入力シート２!H32="","",入力シート２!H32) | G30: =IF(入力シート２!I32="","",入力シート２!I32) | H30: =IF(入力シート２!K32="","",入力シート２!K32) | I30: =IF(入力シート２!L32="","",入力シート２!L32)
C31: =IF(入力シート２!C33="","",入力シート２!C33) | F31: =IF(入力シート２!H33="","",入力シート２!H33) | G31: =IF(入力シート２!I33="","",入力シート２!I33) | H31: =IF(入力シート２!K33="","",入力シート２!K33) | I31: =IF(入力シート２!L33="","",入力シート２!L33)
C32: =IF(入力シート２!C34="","",入力シート２!C34) | F32: =IF(入力シート２!H34="","",入力シート２!H34) | G32: =IF(入力シート２!I34="","",入力シート２!I34) | H32: =IF(入力シート２!K34="","",入力シート２!K34) | I32: =IF(入力シート２!L34="","",入力シート２!L34)
... C35: =IF(入力シート２!C37="","",入力シート２!C37) | F35: =IF(入力シート２!H37="","",入力シート２!H37) | G35: =IF(入力シート２!I37="","",入力シート２!I37) | H35: =IF(入力シート２!K37="","",入力シート２!K37) | I35: =IF(入力シート２!L37="","",入力シート２!L37)
B36: ふりがな | C36: =DATA集計シート!B93 -> ― | F36: ふりがな | G36: =DATA集計シート!B95 -> ―
B37: 指揮者 | C37: =DATA集計シート!B94 -> ― | F37: 伴奏者 | G37: =DATA集計シート!B96 -> ―
B38: 合計演奏時間 （曲間を含む） | C38: =DATA集計シート!B97 -> 0 | E38: ピアノの使用 | G38: =DATA集計シート!B36 -> 0
B39: ピアノふた | C39: =DATA集計シート!B98 | E39: 指揮者用譜面台 | G39: =DATA集計シート!B99 -> 0 | H39: 譜めくり椅子 | I39: =DATA集計シート!B100 -> 0
B40: ピアノ以外 の使用楽器 | C40: =DATA集計シート!B37 -> ―
B41: 要望事項 | C41: =DATA集計シート!B101 -> ―
B43: 宮城県合唱連盟理事長 | D43: ='大会＆DD'!$B$4&" 様" -> 水口 裕子 様
B44: =" 上記のとおり、"&'大会＆DD'!$B$3&"の参加を申し込みます。" -> 上記のとおり、第38回宮城県合唱アンサンブルコンテストの参加を申し込みます。
C45: =入力シート１!C6 -> 0
D46: =入力シート１!C11 -> 0 | F46: 印 （職印） | G46: ※小・中・高校以外の団体は押印不要
E47: ※小・中・高校の団体は、審査用楽譜に同封して郵送してください。
B49: Web申込 | H49: 事務局 記入欄
B50: ='大会＆DD'!$B$3&"参加申込書" -> 第38回宮城県合唱アンサンブルコンテスト参加申込書 | I50: ２グループ目
B52: ふりがな | C52: =DATA集計シート!B3 -> 0 | H52: =DATA集計シート!B7 -> 0
B53: 正式団体名 | C53: =DATA集計シート!B4 -> 0
B54: 加盟・非加盟 | C54: =DATA集計シート!B6 -> 0 | D54: =IF(C54="非加盟団体","（団体参加費 10,000円加算）","")
B55: 納入金内訳 （団体総計） | C55: =DATA集計シート!B9 | D55: × | E55: =DATA集計シート!B10&"名" -> 0名 | F55: (出演者） | H55: ＝ | I55: =DATA集計シート!B13
E56: =DATA集計シート!B11&"名" -> 0名 | F56: (譜めくり・付添等）
C57: 【加算】団体参加費 | E57: =IF(C54="非加盟団体","10,000","0") -> 0 | F57: 円 | G57: 振込金額 | H57: ＝ | I57: =I55+E57 -> #VALUE!
B58: 参加料 納入確認 | C58: =DATA集計シート!B15 -> 0 | E58: =入力シート１!F32
B59: 連絡先 （文書送付先） ※参加者要項 （２次要項）の 送付等に使用 | C59: 郵便番号 | D59: =DATA集計シート!B21 -> 0 | F59: 緊急連絡先携帯番号 | H59: =DATA集計シート!B27 -> 0
C60: 住所 | D60: =DATA集計シート!B22 -> 0
C61: 申込担当者氏名 | D61: =DATA集計シート!B23 -> 0
C62: 電話番号 | D62: =DATA集計シート!B24 -> 0 | F62: ＦＡＸ番号 お持ちでない場合は省略可 | H62: =DATA集計シート!B25 -> 0
C63: メールアドレス （要項等送付先） | D63: =DATA集計シート!B26 -> 0
B65: ふりがな | C65: =DATA集計シート!B104 -> 0 | G65: グループ人数 | H65: =DATA集計シート!B107&"名" -> 0名
B66: グループ名 | C66: =DATA集計シート!B105 -> 0
B67: 編成 | C67: =DATA集計シート!B109 -> 0 | E67: 全国大会への推薦 | G67: =DATA集計シート!B106 -> 0
B68: 演奏曲目 | C68: 曲 名 | F68: 作・訳詩者 | H68: 作・編曲者
C69: =IF(入力シート２!C84="","",入力シート２!C84) | F69: =IF(入力シート２!H84="","",入力シート２!H84) | G69: =IF(入力シート２!I84="","",入力シート２!I84) | H69: =IF(入力シート２!K84="","",入力シート２!K84) | I69: =IF(入力シート２!L84="","",入力シート２!L84)
C70: =IF(入力シート２!C85="","",入力シート２!C85) | F70: =IF(入力シート２!H85="","",入力シート２!H85) | G70: =IF(入力シート２!I85="","",入力シート２!I85) | H70: =IF(入力シート２!K85="","",入力シート２!K85) | I70: =IF(入力シート２!L85="","",入力シート２!L85)
C71: =IF(入力シート２!C86="","",入力シート２!C86) | F71: =IF(入力シート２!H86="","",入力シート２!H86) | G71: =IF(入力シート２!I86="","",入力シート２!I86) | H71: =IF(入力シート２!K86="","",入力シート２!K86) | I71: =IF(入力シート２!L86="","",入力シート２!L86)
C72: =IF(入力シート２!C87="","",入力シート２!C87) | F72: =IF(入力シート２!H87="","",入力シート２!H87) | G72: =IF(入力シート２!I87="","",入力シート２!I87) | H72: =IF(入力シート２!K87="","",入力シート２!K87) | I72: =IF(入力シート２!L87="","",入力シート２!L87)
C73: =IF(入力シート２!C88="","",入力シート２!C88) | F73: =IF(入力シート２!H88="","",入力シート２!H88) | G73: =IF(入力シート２!I88="","",入力シート２!I88) | H73: =IF(入力シート２!K88="","",入力シート２!K88) | I73: =IF(入力シート２!L88="","",入力シート２!L88)
C74: =IF(入力シート２!C89="","",入力シート２!C89) | F74: =IF(入力シート２!H89="","",入力シート２!H89) | G74: =IF(入力シート２!I89="","",入力シート２!I89) | H74: =IF(入力シート２!K89="","",入力シート２!K89) | I74: =IF(入力シート２!L89="","",入力シート２!L89)
C75: =IF(入力シート２!C90="","",入力シート２!C90) | F75: =IF(入力シート２!H90="","",入力シート２!H90) | G75: =IF(入力シート２!I90="","",入力シート２!I90) | H75: =IF(入力シート２!K90="","",入力シート２!K90) | I75: =IF(入力シート２!L90="","",入力シート２!L90)
C76: =IF(入力シート２!C91="","",入力シート２!C91) | F76: =IF(入力シート２!H91="","",入力シート２!H91) | G76: =IF(入力シート２!I91="","",入力シート２!I91) | H76: =IF(入力シート２!K91="","",入力シート２!K91) | I76: =IF(入力シート２!L91="","",入力シート２!L91)
C77: =IF(入力シート２!C92="","",入力シート２!C92) | F77: =IF(入力シート２!H92="","",入力シート２!H92) | G77: =IF(入力シート２!I92="","",入力シート２!I92) | H77: =IF(入力シート２!K92="","",入力シート２!K92) | I77: =IF(入力シート２!L92="","",入力シート２!L92)
C78: =IF(入力シート２!C93="","",入力シート２!C93) | F78: =IF(入力シート２!H93="","",入力シート２!H93) | G78: =IF(入力シート２!I93="","",入力シート２!I93) | H78: =IF(入力シート２!K93="","",入力シート２!K93) | I78: =IF(入力シート２!L93="","",入力シート２!L93)
C79: =IF(入力シート２!C94="","",入力シート２!C94) | F79: =IF(入力シート２!H94="","",入力シート２!H94) | G79: =IF(入力シート２!I94="","",入力シート２!I94) | H79: =IF(入力シート２!K94="","",入力シート２!K94) | I79: =IF(入力シート２!L94="","",入力シート２!L94)
C80: =IF(入力シート２!C95="","",入力シート２!C95) | F80: =IF(入力シート２!H95="","",入力シート２!H95) | G80: =IF(入力シート２!I95="","",入力シート２!I95) | H80: =IF(入力シート２!K95="","",入力シート２!K95) | I80: =IF(入力シート２!L95="","",入力シート２!L95)
... C83: =IF(入力シート２!C98="","",入力シート２!C98) | F83: =IF(入力シート２!H98="","",入力シート２!H98) | G83: =IF(入力シート２!I98="","",入力シート２!I98) | H83: =IF(入力シート２!K98="","",入力シート２!K98) | I83: =IF(入力シート２!L98="","",入力シート２!L98)
B84: ふりがな | C84: =DATA集計シート!B167 -> ― | F84: ふりがな | G84: =DATA集計シート!B169 -> ―
B85: 指揮者 | C85: =DATA集計シート!B168 -> ― | F85: 伴奏者 | G85: =DATA集計シート!B170 -> ―
B86: 合計演奏時間 （曲間を含む） | C86: =DATA集計シート!B171 -> 0 | E86: ピアノの使用 | G86: =DATA集計シート!B110 -> 0
B87: ピアノふた | C87: =DATA集計シート!B172 -> 0 | E87: 指揮者用譜面台 | G87: =DATA集計シート!B173 -> 0 | H87: 譜めくり椅子 | I87: =DATA集計シート!B174 -> 0
B88: ピアノ以外 の使用楽器 | C88: =DATA集計シート!B111 -> ―
B89: 要望事項 | C89: =DATA集計シート!B175 -> ―
B91: 宮城県合唱連盟理事長 | D91: ='大会＆DD'!$B$4&" 様" -> 水口 裕子 様
B92: =" 上記のとおり、"&'大会＆DD'!$B$3&"の参加を申し込みます。" -> 上記のとおり、第38回宮城県合唱アンサンブルコンテストの参加を申し込みます。
C93: =DATA集計シート!B1 -> 0
D94: =DATA集計シート!B5 -> 0 | F94: 印 （職印） | G94: ※小・中・高校以外の団体は押印不要
E95: ※小・中・高校の団体は、審査用楽譜に同封して郵送してください。
B97: Web申込 | H97: 事務局 記入欄
B98: ='大会＆DD'!$B$3&"参加申込書" -> 第38回宮城県合唱アンサンブルコンテスト参加申込書 | I98: ３グループ目
B100: ふりがな | C100: =DATA集計シート!B3 -> 0 | H100: =DATA集計シート!B7 -> 0
B101: 正式団体名 | C101: =DATA集計シート!B4 -> 0
B102: 加盟・非加盟 | C102: =DATA集計シート!B6 -> 0 | D102: =IF(C102="非加盟団体","（団体参加費 10,000円加算）","")
B103: 納入金内訳 （団体総計） | C103: =DATA集計シート!B9 | D103: × | E103: =DATA集計シート!B10&"名" -> 0名 | F103: (出演者） | H103: ＝ | I103: =DATA集計シート!B13
E104: =DATA集計シート!B11&"名" -> 0名 | F104: (譜めくり・付添等）
C105: 【加算】団体参加費 | E105: =IF(C102="非加盟団体","10,000","0") -> 0 | F105: 円 | G105: 振込金額 | H105: ＝ | I105: =I103+E105 -> #VALUE!
B106: 参加料 納入確認 | C106: =DATA集計シート!B15 -> 0 | E106: =入力シート１!F32
B107: 連絡先 （文書送付先） ※参加者要項 （２次要項）の 送付等に使用 | C107: 郵便番号 | D107: =DATA集計シート!B21 -> 0 | F107: 緊急連絡先携帯番号 | H107: =DATA集計シート!B27 -> 0
C108: 住所 | D108: =DATA集計シート!B22 -> 0
C109: 申込担当者氏名 | D109: =DATA集計シート!B23 -> 0
C110: 電話番号 | D110: =DATA集計シート!B24 -> 0 | F110: ＦＡＸ番号 お持ちでない場合は省略可 | H110: =DATA集計シート!B25 -> 0
C111: メールアドレス （要項等送付先） | D111: =DATA集計シート!B26 -> 0
B113: ふりがな | C113: =DATA集計シート!B178 -> 0 | G113: グループ人数 | H113: =DATA集計シート!B181&"名" -> 0名
B114: グループ名 | C114: =DATA集計シート!B179 -> 0
...

Sheet DATA集計シート
A1: 申込書記入日 | B1: =入力シート１!C6 -> 0
A2: 申込書変更日
A3: ふりがな | B3: =入力シート１!C8 -> 0
A4: 正式団体名 | B4: =入力シート１!C9 -> 0
A5: 団体長・校長名 | B5: =入力シート１!C11 -> 0
A6: 加盟 | B6: =入力シート１!C13 -> 0
A7: 部門 | B7: =入力シート１!C15 -> 0
A8: 団体参加費① | B8: =入力シート１!C17 -> 0
A9: 個人参加費 | B9: =入力シート１!C19
A10: 出演者数 | B10: =入力シート１!C21 -> 0
A11: 譜めくり、引率者、付添者数計 | B11: =入力シート１!C24 -> 0
A12: 合計人数 | B12: =入力シート１!C26 -> 0
A13: 個人参加費 合計 ② | B13: =入力シート１!C28
A14: 振込金額 （①＋②） | B14: =入力シート１!C30
A15: 参加料の納入確認 | B15: =入力シート１!C33 -> 0
A16: 入金金額
A17: 入金確認日
A18: 追加人数
A19: 追加入金金額
A20: 追加入金確認日
A21: 郵便番号 | B21: =入力シート１!C36 -> 0
A22: 住所 | B22: =入力シート１!C38 -> 0
A23: 担当者（顧問）氏名 | B23: =入力シート１!C40 -> 0
A24: 電話番号 | B24: =入力シート１!C44 -> 0
A25: FAX番号 | B25: =入力シート１!C46 -> 0
A26: メール（要項等送付先） | B26: =入力シート１!C48 -> 0
A27: 緊急連絡先携帯番号 | B27: =入力シート１!C50 -> 0
A29: （１グループ目）
A30: ふりがな | B30: =入力シート２!C7 -> 0
A31: グループ名 | B31: =入力シート２!C8 -> 0
A32: 全国推薦希望 | B32: =入力シート２!C10 -> 0
A33: 出演者人数（最大16名） | B33: =入力シート２!C13 -> 0
A34: 変更後人数
A35: 編成 | B35: =入力シート２!C15 -> 0
A36: ピアノの使用 | B36: =入力シート２!C17 -> 0
A37: ピアノ以外の楽器使用 | B37: =IF(入力シート２!C19="","―",入力シート２!C19) -> ―
A38: 曲名1-1 | B38: =入力シート２!C23 -> 0
A39: 曲名1-2 | B39: =入力シート２!C24 -> 0
A40: 曲名1-3 | B40: =入力シート２!C25 -> 0
A41: 作詩1-1 | B41: =入力シート２!H23& 入力シート２!I23
A42: 作詩1-2 | B42: =入力シート２!H24& 入力シート２!I24
A43: 作詩1-3 | B43: =入力シート２!H25& 入力シート２!I25
A44: 作曲1-1 | B44: =入力シート２!K23& 入力シート２!L23
A45: 作曲1-2 | B45: =入力シート２!K24& 入力シート２!L24
A46: 作曲1-3 | B46: =入力シート２!K25& 入力シート２!L25
A47: 1-演奏時間（分・秒） | B47: =入力シート２!N23 -> 0
A48: 1-利用方法 | B48: =入力シート２!O23 -> 0
A49: 曲名2-1 | B49: =入力シート２!C26 -> 0
A50: 曲名2-2 | B50: =入力シート２!C27 -> 0
A51: 曲名2-3 | B51: =入力シート２!C28 -> 0
A52: 作詩2-1 | B52: =入力シート２!H26& 入力シート２!I26
A53: 作詩2-2 | B53: =入力シート２!H27& 入力シート２!I27
A54: 作詩2-3 | B54: =入力シート２!H28& 入力シート２!I28
A55: 作曲2-1 | B55: =入力シート２!K26& 入力シート２!L26
A56: 作曲2-2 | B56: =入力シート２!K27& 入力シート２!L27
A57: 作曲2-3 | B57: =入力シート２!K28& 入力シート２!L28
A58: 2-演奏時間（分・秒） | B58: =入力シート２!N26 -> 0
A59: 2-利用方法 | B59: =入力シート２!O26 -> 0
A60: 曲名3-1 | B60: =入力シート２!C29 -> 0
A61: 曲名3-2 | B61: =入力シート２!C30 -> 0
A62: 曲名3-3 | B62: =入力シート２!C31 -> 0
A63: 作詩3-1 | B63: =入力シート２!H29& 入力シート２!I29
A64: 作詩3-2 | B64: =入力シート２!H30& 入力シート２!I30
A65: 作詩3-3 | B65: =入力シート２!H31& 入力シート２!I31
A66: 作曲3-1 | B66: =入力シート２!K29& 入力シート２!L29
A67: 作曲3-2 | B67: =入力シート２!K30& 入力シート２!L30
A68: 作曲3-3 | B68: =入力シート２!K31& 入力シート２!L31
A69: 3-演奏時間（分・秒） | B69: =入力シート２!N29 -> 0
A70: 3-利用方法 | B70: =入力シート２!O29 -> 0
A71: 曲名4-1 | B71: =入力シート２!C32 -> 0
A72: 曲名4-2 | B72: =入力シート２!C33 -> 0
A73: 曲名4-3 | B73: =入力シート２!C34 -> 0
A74: 作詩4-1 | B74: =入力シート２!H32&入力シート２!I32
A75: 作詩4-2 | B75: =入力シート２!H33&入力シート２!I33
A76: 作詩4-3 | B76: =入力シート２!H34&入力シート２!I34
A77: 作曲4-1 | B77: =入力シート２!K32&入力シート２!L32
A78: 作曲4-2 | B78: =入力シート２!K33&入力シート２!L33
A79: 作曲4-3 | B79: =入力シート２!K34&入力シート２!L34
A80: 4-演奏時間（分・秒） | B80: =入力シート２!N32 -> 0
A81: 4-利用方法 | B81: =入力シート２!O32 -> 0
A82: 曲名5-1 | B82: =入力シート２!C35 -> 0
A83: 曲名5-2 | B83: =入力シート２!C36 -> 0
A84: 曲名5-3 | B84: =入力シート２!C37 -> 0
A85: 作詩5-1 | B85: =入力シート２!H35&入力シート２!I35
A86: 作詩5-2 | B86: =入力シート２!H36&入力シート２!I36
A87: 作詩5-3 | B87: =入力シート２!H37&入力シート２!I37
A88: 作曲5-1 | B88: =入力シート２!K35&入力シート２!L35
A89: 作曲5-2 | B89: =入力シート２!K36&入力シート２!L36
A90: 作曲5-3 | B90: =入力シート２!K37&入力シート２!L37
A91: 5-演奏時間（分・秒） | B91: =入力シート２!N35 -> 0
A92: 5-利用方法 | B92: =入力シート２!O35 -> 0
A93: 指揮者ふりがな | B93: =IF(入力シート２!C41="","―",入力シート２!C41) -> ―
A94: 指揮者氏名 | B94: =IF(入力シート２!C42="","―",入力シート２!C42) -> ―
A95: 伴奏者ふりがな | B95: =IF(入力シート２!C44="","―",入力シート２!C44) -> ―
A96: 伴奏者氏名 | B96: =IF(入力シート２!C45="","―",入力シート２!C45) -> ―
A97: 合計演奏時間 | B97: =入力シート２!C48 -> 0
A98: ピアノふた | B98: =入力シート２!C51
A99: 指揮者用譜面台 | B99: =入力シート２!C53 -> 0
A100: 譜めくり椅子 | B100: =入力シート２!C55 -> 0
A101: 要望事項 | B101: =IF(入力シート２!C57="","―",入力シート２!C57) -> ―
...

Sheet プログラム作成用データ
A1: 正式団体名 | B1: =入力シート１!C9 -> 0
A3: （１グループ目）
A4: グループ名 | B4: =DATA集計シート!B31 -> 0
A5: 全国推薦希望 | B5: =DATA集計シート!B32 -> 0
A6: 出演者人数（最大16名） | B6: =DATA集計シート!B33 -> 0
A7: 変更後人数
A8: 編成 | B8: =DATA集計シート!B35 -> 0
A9: 曲名1-1 | B9: =DATA集計シート!B38 -> 0
A10: 曲名1-2 | B10: =DATA集計シート!B39 -> 0
A11: 曲名1-3 | B11: =DATA集計シート!B40 -> 0
A12: 作詩1-1 | B12: =DATA集計シート!B41
A13: 作詩1-2 | B13: =DATA集計シート!B42
A14: 作詩1-3 | B14: =DATA集計シート!B43
A15: 作曲1-1 | B15: =DATA集計シート!B44
A16: 作曲1-2 | B16: =DATA集計シート!B45
A17: 作曲1-3 | B17: =DATA集計シート!B46
A18: 曲名2-1 | B18: =DATA集計シート!B49 -> 0
A19: 曲名2-2 | B19: =DATA集計シート!B50 -> 0
A20: 曲名2-3 | B20: =DATA集計シート!B51 -> 0
A21: 作詩2-1 | B21: =DATA集計シート!B52
A22: 作詩2-2 | B22: =DATA集計シート!B53
A23: 作詩2-3 | B23: =DATA集計シート!B54
A24: 作曲2-1 | B24: =DATA集計シート!B55
A25: 作曲2-2 | B25: =DATA集計シート!B56
A26: 作曲2-3 | B26: =DATA集計シート!B57
A27: 曲名3-1 | B27: =DATA集計シート!B60 -> 0
A28: 曲名3-2 | B28: =DATA集計シート!B61 -> 0
A29: 曲名3-3 | B29: =DATA集計シート!B62 -> 0
A30: 作詩3-1 | B30: =DATA集計シート!B63
A31: 作詩3-2 | B31: =DATA集計シート!B64
A32: 作詩3-3 | B32: =DATA集計シート!B65
A33: 作曲3-1 | B33: =DATA集計シート!B66
A34: 作曲3-2 | B34: =DATA集計シート!B67
A35: 作曲3-3 | B35: =DATA集計シート!B68
A36: 曲名4-1 | B36: =DATA集計シート!B71 -> 0
A37: 曲名4-2 | B37: =DATA集計シート!B72 -> 0
A38: 曲名4-3 | B38: =DATA集計シート!B73 -> 0
A39: 作詩4-1 | B39: =DATA集計シート!B74
A40: 作詩4-2 | B40: =DATA集計シート!B75
A41: 作詩4-3 | B41: =DATA集計シート!B76
A42: 作曲4-1 | B42: =DATA集計シート!B77
A43: 作曲4-2 | B43: =DATA集計シート!B78
A44: 作曲4-3 | B44: =DATA集計シート!B79
A45: 曲名5-1 | B45: =DATA集計シート!B82 -> 0
A46: 曲名5-2 | B46: =DATA集計シート!B83 -> 0
A47: 曲名5-3 | B47: =DATA集計シート!B84 -> 0
A48: 作詩5-1 | B48: =DATA集計シート!B85
A49: 作詩5-2 | B49: =DATA集計シート!B86
A50: 作詩5-3 | B50: =DATA集計シート!B87
A51: 作曲5-1 | B51: =DATA集計シート!B88
A52: 作曲5-2 | B52: =DATA集計シート!B89
A53: 作曲5-3 | B53: =DATA集計シート!B90
A54: 指揮者氏名 | B54: =DATA集計シート!B94 -> ―
A55: 伴奏者氏名 | B55: =DATA集計シート!B96 -> ―
A57: （２グループ目）
A58: グループ名 | B58: =DATA集計シート!B105 -> 0
A59: 全国推薦希望 | B59: =DATA集計シート!B106 -> 0
A60: 出演者人数（最大16名） | B60: =DATA集計シート!B107 -> 0
A61: 変更後人数
A62: 編成 | B62: =DATA集計シート!B109 -> 0
A63: 曲名1-1 | B63: =DATA集計シート!B112 -> 0
A64: 曲名1-2 | B64: =DATA集計シート!B113 -> 0
A65: 曲名1-3 | B65: =DATA集計シート!B114 -> 0
A66: 作詩1-1 | B66: =DATA集計シート!B115
A67: 作詩1-2 | B67: =DATA集計シート!B116
A68: 作詩1-3 | B68: =DATA集計シート!B117
A69: 作曲1-1 | B69: =DATA集計シート!B118
A70: 作曲1-2 | B70: =DATA集計シート!B119
A71: 作曲1-3 | B71: =DATA集計シート!B120
A72: 曲名2-1 | B72: =DATA集計シート!B123 -> 0
A73: 曲名2-2 | B73: =DATA集計シート!B124 -> 0
A74: 曲名2-3 | B74: =DATA集計シート!B125 -> 0
A75: 作詩2-1 | B75: =DATA集計シート!B126
A76: 作詩2-2 | B76: =DATA集計シート!B127
A77: 作詩2-3 | B77: =DATA集計シート!B128
A78: 作曲2-1 | B78: =DATA集計シート!B129
A79: 作曲2-2 | B79: =DATA集計シート!B130
A80: 作曲2-3 | B80: =DATA集計シート!B131
A81: 曲名3-1 | B81: =DATA集計シート!B134 -> 0
A82: 曲名3-2 | B82: =DATA集計シート!B135 -> 0
A83: 曲名3-3 | B83: =DATA集計シート!B136 -> 0
A84: 作詩3-1 | B84: =DATA集計シート!B137
A85: 作詩3-2 | B85: =DATA集計シート!B138
A86: 作詩3-3 | B86: =DATA集計シート!B139
A87: 作曲3-1 | B87: =DATA集計シート!B140
A88: 作曲3-2 | B88: =DATA集計シート!B141
A89: 作曲3-3 | B89: =DATA集計シート!B142
A90: 曲名4-1 | B90: =DATA集計シート!B145 -> 0
A91: 曲名4-2 | B91: =DATA集計シート!B146 -> 0
A92: 曲名4-3 | B92: =DATA集計シート!B147 -> 0
A93: 作詩4-1 | B93: =DATA集計シート!B148
A94: 作詩4-2 | B94: =DATA集計シート!B149
A95: 作詩4-3 | B95: =DATA集計シート!B150
A96: 作曲4-1 | B96: =DATA集計シート!B151
A97: 作曲4-2 | B97: =DATA集計シート!B152
A98: 作曲4-3 | B98: =DATA集計シート!B153
A99: 曲名5-1 | B99: =DATA集計シート!B156 -> 0
A100: 曲名5-2 | B100: =DATA集計シート!B157 -> 0
A101: 曲名5-3 | B101: =DATA集計シート!B158 -> 0
A102: 作詩5-1 | B102: =DATA集計シート!B159
...

Sheet 大会＆DD
A3: 大会名称 | B3: 第38回宮城県合唱アンサンブルコンテスト
A4: 理事長名 | B4: 水口 裕子
A6: 個人参加費 | B6: 小学校部門 | C6: 600
B7: 中学校部門 | C7: 900
B8: 高等学校部門 | C8: 1100
B9: 大学部門 | C9: 1400
B10: 職場一般部門 | C10: 1400
A13: DDリスト
A14: 加盟 | B14: 部門 | C14: 引率・付添人数 | D14: 全国大会希望 | E14: 編成 | F14: ピアノ使用 | G14: ピアノ | H14: 譜面台 | I14: 譜めくり椅子 | J14: 作詞者 | K14: 作曲者 | L14: 参加料振込確認 | M14: 演奏時間 | N14: 利用方法
A16: 加盟団体 | B16: 小学生部門 | C16: 0 | D16: 希望する | E16: 女声 | F16: 使用する | G16: 全開 | H16: 要 | I16: 要 | J16: 作詞 | K16: 作曲 | L16: 納入済 | M16: 1 | N16: 1.原詞
A17: 非加盟団体 | B17: 中学生部門 | C17: 1 | D17: 希望しない | E17: 男声 | F17: 使用しない（開始音のみ） | G17: 半開 | H17: 不要 | I17: 不要 | J17: 作詩 | K17: 編曲 | L17: 未納 | M17: 2 | N17: 2.訳詞
B18: 高等学校部門 | C18: 2 | E18: 混声 | G18: コマ | J18: 訳詞 | K18: 補作 | M18: 3
B19: 大学部門 | C19: 3 | E19: 小学生 | G19: 閉 | M19: 4
B20: 職場一般部門 | M20: 5
M21: 6
M22: 7
M23: 8
M24: 9
M25: 10
M26: 11
M27: 12
B38: 1
B39: 2
B40: 3
B41: 4
B42: 5
B43: 6
B44: 7
B45: 8

Sheet 利用申請(1)
B7: =IF(入力シート２!C23="","",入力シート２!C23) | C7: =IF(入力シート２!I23="","",入力シート２!I23) | E7: =IF(入力シート２!V24=1,"1.原詞","") | F7: =IF(入力シート２!L23="","",入力シート２!L23) | G7: =IF(B7="","",入力シート１!C9) | H7: =IF(入力シート２!N23="","",入力シート２!N23) | I7: =IF(B7="","",1)
B8: =入力シート２!C24&N8&入力シート２!C25 | C8: =入力シート２!I24&'利用申請(1)'!N8&入力シート２!I25 | E8: =IF(入力シート２!V24=2,"2.訳詞","") | F8: =入力シート２!L24&'利用申請(1)'!N8&入力シート２!L25
B9: =IF(入力シート２!C26="","",入力シート２!C26) | C9: =IF(入力シート２!I26="","",入力シート２!I26) | E9: =IF(入力シート２!V27=1,"1.原詞","") | F9: =IF(入力シート２!L26="","",入力シート２!L26) | G9: =IF(B9="","",入力シート１!C9) | H9: =IF(入力シート２!N26="","",入力シート２!N26) | I9: =IF(B9="","",1)
B10: =入力シート２!C27&N10&入力シート２!C28 | C10: =入力シート２!I27&'利用申請(1)'!N10&入力シート２!I28 | E10: =IF(入力シート２!V27=2,"2.訳詞","") | F10: =入力シート２!L27&'利用申請(1)'!N10&入力シート２!L28
B11: =IF(入力シート２!C29="","",入力シート２!C29) | C11: =IF(入力シート２!I29="","",入力シート２!I29) | E11: =IF(入力シート２!V30=1,"1.原詞","") | F11: =IF(入力シート２!L29="","",入力シート２!L29) | G11: =IF(B11="","",入力シート１!C9) | H11: =IF(入力シート２!N29="","",入力シート２!N29) | I11: =IF(B11="","",1)
B12: =入力シート２!C30&N12&入力シート２!C31 | C12: =入力シート２!I30&'利用申請(1)'!N12&入力シート２!I31 | E12: =IF(入力シート２!V30=2,"2.訳詞","") | F12: =入力シート２!L30&'利用申請(1)'!N12&入力シート２!L31
B13: =IF(入力シート２!C32="","",入力シート２!C32) | C13: =IF(入力シート２!I32="","",入力シート２!I32) | E13: =IF(入力シート２!V33=1,"1.原詞","") | F13: =IF(入力シート２!L32="","",入力シート２!L32) | G13: =IF(B13="","",入力シート１!C9) | H13: =IF(入力シート２!N32="","",入力シート２!N32) | I13: =IF(B13="","",1)
B14: =入力シート２!C33&N14&入力シート２!C34 | C14: =入力シート２!I33&'利用申請(1)'!N14&入力シート２!I34 | E14: =IF(入力シート２!V33=2,"2.訳詞","") | F14: =入力シート２!L33&'利用申請(1)'!N14&入力シート２!L34
B15: =IF(入力シート２!C35="","",入力シート２!C35) | C15: =IF(入力シート２!I35="","",入力シート２!I35) | E15: =IF(入力シート２!V36=1,"1.原詞","") | F15: =IF(入力シート２!L35="","",入力シート２!L35) | G15: =IF(B15="","",入力シート１!C9) | H15: =IF(入力シート２!N35="","",入力シート２!N35) | I15: =IF(B15="","",1)
B16: =入力シート２!C36&N16&入力シート２!C37 | C16: =入力シート２!I36&'利用申請(1)'!N16&入力シート２!I37 | E16: =IF(入力シート２!V36=2,"2.訳詞","") | F16: =入力シート２!L36&'利用申請(1)'!N16&入力シート２!L37

Sheet 利用申請 (2)
B7: =IF(入力シート２!C84="","",入力シート２!C84) | C7: =IF(入力シート２!I84="","",入力シート２!I84) | E7: =IF(入力シート２!V85=1,"1.原詞","") | F7: =IF(入力シート２!L84="","",入力シート２!L84) | G7: =IF(B7="","",入力シート１!C9) | H7: =IF(入力シート２!N84="","",入力シート２!N84) | I7: =IF(B7="","",1)
B8: =入力シート２!C85&N8&入力シート２!C86 | C8: =入力シート２!I85&'利用申請 (2)'!N8&入力シート２!I86 | E8: =IF(入力シート２!V85=2,"2.訳詞","") | F8: =入力シート２!L85&'利用申請 (2)'!N8&入力シート２!L86
B9: =IF(入力シート２!C87="","",入力シート２!C87) | C9: =IF(入力シート２!I87="","",入力シート２!I87) | E9: =IF(入力シート２!V88=1,"1.原詞","") | F9: =IF(入力シート２!L87="","",入力シート２!L87) | G9: =IF(B9="","",入力シート１!C9) | H9: =IF(入力シート２!N87="","",入力シート２!N87) | I9: =IF(B9="","",1)
B10: =入力シート２!C88&N10&入力シート２!C89 | C10: =入力シート２!I88&'利用申請 (2)'!N10&入力シート２!I89 | E10: =IF(入力シート２!V88=2,"2.訳詞","") | F10: =入力シート２!L88&'利用申請 (2)'!N10&入力シート２!L89
B11: =IF(入力シート２!C90="","",入力シート２!C90) | C11: =IF(入力シート２!I90="","",入力シート２!I90) | E11: =IF(入力シート２!V91=1,"1.原詞","") | F11: =IF(入力シート２!L90="","",入力シート２!L90) | G11: =IF(B11="","",入力シート１!C9) | H11: =IF(入力シート２!N90="","",入力シート２!N90) | I11: =IF(B11="","",1)
B12: =入力シート２!C91&N12&入力シート２!C92 | C12: =入力シート２!I91&'利用申請 (2)'!N12&入力シート２!I92 | E12: =IF(入力シート２!V91=2,"2.訳詞","") | F12: =入力シート２!L91&'利用申請 (2)'!N12&入力シート２!L92
B13: =IF(入力シート２!C93="","",入力シート２!C93) | C13: =IF(入力シート２!I93="","",入力シート２!I93) | E13: =IF(入力シート２!V94=1,"1.原詞","") | F13: =IF(入力シート２!L93="","",入力シート２!L93) | G13: =IF(B13="","",入力シート１!C9) | H13: =IF(入力シート２!N93="","",入力シート２!N93) | I13: =IF(B13="","",1)
B14: =入力シート２!C94&'利用申請 (2)'!N14&入力シート２!C95 | C14: =入力シート２!I94&'利用申請 (2)'!N14&入力シート２!I95 | E14: =IF(入力シート２!V94=2,"2.訳詞","") | F14: =入力シート２!L94&'利用申請 (2)'!N14&入力シート２!L95
B15: =IF(入力シート２!C96="","",入力シート２!C96) | C15: =IF(入力シート２!I96="","",入力シート２!I96) | E15: =IF(入力シート２!V97=1,"1.原詞","") | F15: =IF(入力シート２!L96="","",入力シート２!L96) | G15: =IF(B15="","",入力シート１!C9) | H15: =IF(入力シート２!N96="","",入力シート２!N96) | I15: =IF(B15="","",1)
B16: =入力シート２!C97&'利用申請 (2)'!N16&入力シート２!C98 | C16: =入力シート２!I97&'利用申請 (2)'!N16&入力シート２!I98 | E16: =IF(入力シート２!V97=2,"2.訳詞","") | F16: =入力シート２!L97&'利用申請 (2)'!N16&入力シート２!L98

Sheet 利用申請 (3)
B7: =IF(入力シート２!C145="","",入力シート２!C145) | C7: =IF(入力シート２!I145="","",入力シート２!I145) | E7: =IF(入力シート２!V146=1,"1.原詞","") | F7: =IF(入力シート２!L145="","",入力シート２!L145) | G7: =IF(B7="","",入力シート１!C9) | H7: =IF(入力シート２!N145="","",入力シート２!N145) | I7: =IF(B7="","",1)
B8: =入力シート２!C146&N8&入力シート２!C147 | C8: =入力シート２!I146&'利用申請 (3)'!N8&入力シート２!I147 | E8: =IF(入力シート２!V146=2,"2.訳詞","") | F8: =入力シート２!L146&'利用申請 (3)'!N8&入力シート２!L147
B9: =IF(入力シート２!C148="","",入力シート２!C148) | C9: =IF(入力シート２!I148="","",入力シート２!I148) | E9: =IF(入力シート２!V149=1,"1.原詞","") | F9: =IF(入力シート２!L148="","",入力シート２!L148) | G9: =IF(B9="","",入力シート１!C9) | H9: =IF(入力シート２!N148="","",入力シート２!N148) | I9: =IF(B9="","",1)
B10: =入力シート２!C149&N10&入力シート２!C150 | C10: =入力シート２!I149&'利用申請 (3)'!N10&入力シート２!I150 | E10: =IF(入力シート２!V149=2,"2.訳詞","") | F10: =入力シート２!L149&'利用申請 (3)'!N10&入力シート２!L150
B11: =IF(入力シート２!C151="","",入力シート２!C151) | C11: =IF(入力シート２!I151="","",入力シート２!I151) | E11: =IF(入力シート２!V152=1,"1.原詞","") | F11: =IF(入力シート２!L151="","",入力シート２!L151) | G11: =IF(B11="","",入力シート１!C9) | H11: =IF(入力シート２!N151="","",入力シート２!N151) | I11: =IF(B11="","",1)
B12: =入力シート２!C152&N12&入力シート２!C153 | C12: =入力シート２!I152&'利用申請 (3)'!N12&入力シート２!I153 | E12: =IF(入力シート２!V152=2,"2.訳詞","") | F12: =入力シート２!L152&'利用申請 (3)'!N12&入力シート２!L153
B13: =IF(入力シート２!C154="","",入力シート２!C154) | C13: =IF(入力シート２!I154="","",入力シート２!I154) | E13: =IF(入力シート２!V155=1,"1.原詞","") | F13: =IF(入力シート２!L154="","",入力シート２!L154) | G13: =IF(B13="","",入力シート１!C9) | H13: =IF(入力シート２!N154="","",入力シート２!N154) | I13: =IF(B13="","",1)
B14: =入力シート２!C155&'利用申請 (3)'!N14&入力シート２!C156 | C14: =入力シート２!I155&'利用申請 (3)'!N14&入力シート２!I156 | E14: =IF(入力シート２!V155=2,"2.訳詞","") | F14: =入力シート２!L155&'利用申請 (3)'!N14&入力シート２!L156
B15: =IF(入力シート２!C157="","",入力シート２!C157) | C15: =IF(入力シート２!I157="","",入力シート２!I157) | E15: =IF(入力シート２!V158=1,"1.原詞","") | F15: =IF(入力シート２!L157="","",入力シート２!L157) | G15: =IF(B15="","",入力シート１!C9) | H15: =IF(入力シート２!N157="","",入力シート２!N157) | I15: =IF(B15="","",1)
B16: =入力シート２!C158&'利用申請 (3)'!N16&入力シート２!C159 | C16: =入力シート２!I158&'利用申請 (3)'!N16&入力シート２!I159 | E16: =IF(入力シート２!V158=2,"2.訳詞","") | F16: =入力シート２!L158&'利用申請 (3)'!N16&入力シート２!L159

Sheet 利用申請 (4)
B7: =IF(入力シート２!C206="","",入力シート２!C206) | C7: =IF(入力シート２!I206="","",入力シート２!I206) | E7: =IF(入力シート２!V207=1,"1.原詞","") | F7: =IF(入力シート２!L206="","",入力シート２!L206) | G7: =IF(B7="","",入力シート１!C9) | H7: =IF(入力シート２!N206="","",入力シート２!N206) | I7: =IF(B7="","",1)
B8: =入力シート２!C207&N8&入力シート２!C208 | C8: =入力シート２!I207&'利用申請 (4)'!N8&入力シート２!I208 | E8: =IF(入力シート２!V207=2,"2.訳詞","") | F8: =入力シート２!L207&'利用申請 (4)'!N8&入力シート２!L208
B9: =IF(入力シート２!C209="","",入力シート２!C209) | C9: =IF(入力シート２!I209="","",入力シート２!I209) | E9: =IF(入力シート２!V210=1,"1.原詞","") | F9: =IF(入力シート２!L209="","",入力シート２!L209) | G9: =IF(B9="","",入力シート１!C9) | H9: =IF(入力シート２!N209="","",入力シート２!N209) | I9: =IF(B9="","",1)
B10: =入力シート２!C210&N10&入力シート２!C211 | C10: =入力シート２!I210&'利用申請 (4)'!N10&入力シート２!I211 | E10: =IF(入力シート２!V210=2,"2.訳詞","") | F10: =入力シート２!L210&'利用申請 (4)'!N10&入力シート２!L211
B11: =IF(入力シート２!C212="","",入力シート２!C212) | C11: =IF(入力シート２!I212="","",入力シート２!I212) | E11: =IF(入力シート２!V213=1,"1.原詞","") | F11: =IF(入力シート２!L212="","",入力シート２!L212) | G11: =IF(B11="","",入力シート１!C9) | H11: =IF(入力シート２!N212="","",入力シート２!N212) | I11: =IF(B11="","",1)
B12: =入力シート２!C213&N12&入力シート２!C214 | C12: =入力シート２!I213&'利用申請 (4)'!N12&入力シート２!I214 | E12: =IF(入力シート２!V213=2,"2.訳詞","") | F12: =入力シート２!L213&'利用申請 (4)'!N12&入力シート２!L214
B13: =IF(入力シート２!C215="","",入力シート２!C215) | C13: =IF(入力シート２!I215="","",入力シート２!I215) | E13: =IF(入力シート２!V216=1,"1.原詞","") | F13: =IF(入力シート２!L215="","",入力シート２!L215) | G13: =IF(B13="","",入力シート１!C9) | H13: =IF(入力シート２!N215="","",入力シート２!N215) | I13: =IF(B13="","",1)
B14: =入力シート２!C216&'利用申請 (4)'!N14&入力シート２!C217 | C14: =入力シート２!I216&'利用申請 (4)'!N14&入力シート２!I217 | E14: =IF(入力シート２!V216=2,"2.訳詞","") | F14: =入力シート２!L216&'利用申請 (4)'!N14&入力シート２!L217
B15: =IF(入力シート２!C218="","",入力シート２!C218) | C15: =IF(入力シート２!I218="","",入力シート２!I218) | E15: =IF(入力シート２!V219=1,"1.原詞","") | F15: =IF(入力シート２!L218="","",入力シート２!L218) | G15: =IF(B15="","",入力シート１!C9) | H15: =IF(入力シート２!N218="","",入力シート２!N218) | I15: =IF(B15="","",1)
B16: =入力シート２!C219&'利用申請 (4)'!N16&入力シート２!C220 | C16: =入力シート２!I219&'利用申請 (4)'!N16&入力シート２!I220 | E16: =IF(入力シート２!V219=2,"2.訳詞","") | F16: =入力シート２!L219&'利用申請 (4)'!N16&入力シート２!L220
